BEGIN:VCALENDAR
VERSION:2.0
PRODID:-//hacksw/handcal//NONSGML v1.0//EN
METHOD:PUBLISH
CALSCALE:GREGORIAN
BEGIN:VEVENT
TZID:Europe/Budapest
UID:efe937780e95574250dabe07151bdc23
SUMMARY:Projektmenedzsment tanfolyam - VIZSGA
DTSTART;VALUE=DATE:20260515
DTEND;VALUE=DATE:20260516
DTSTAMP:20251111T100055
LAST-MODIFIED:20251111T100055
CREATED:20260419T215831
LOCATION:MSPR Üzleti Iskola - MSPR Üzleti Iskola - 1021 Budapest\, Tárogató út 19.
DESCRIPTION:Képzési idő: délelőtt 9.30-tól délután 16.00-ig\, Tréner: Szaskov Miroszlav MBA
URL;VALUE=URI:https://mspr.hu/tanfolyamok/projektmenedzsment-tanfolyam
ORGANIZER:mailto:info@mspr.hu
CATEGORIES:EDUCATION,COURSE
STATUS:CONFIRMED
TRANSP:TRANSPARENT
CLASS:PUBLIC
SEQUENCE:0
END:VEVENT
BEGIN:VEVENT
TZID:Europe/Budapest
UID:01386bd6d8e091c2ab4c7c7de644d37b
SUMMARY:Projektmenedzsment tanfolyam - MODUL - Projektvezetési technikák tréning
DTSTART;VALUE=DATE:20260226
DTEND;VALUE=DATE:20260228
DTSTAMP:20251111T095515
LAST-MODIFIED:20251111T095515
CREATED:20260419T215831
LOCATION:MSPR Üzleti Iskola - MSPR Üzleti Iskola - 1021 Budapest\, Tárogató út 19.
DESCRIPTION:Képzési idő: délelőtt 9.30-tól délután 16.00-ig\, Tréner: Szaskov Miroszlav MBA
URL;VALUE=URI:https://mspr.hu/treningek/projektvezetesi-technikak-trening
ORGANIZER:mailto:info@mspr.hu
CATEGORIES:EDUCATION,COURSE
STATUS:CONFIRMED
TRANSP:TRANSPARENT
CLASS:PUBLIC
SEQUENCE:0
END:VEVENT
BEGIN:VEVENT
TZID:Europe/Budapest
UID:0bb4aec1710521c12ee76289d9440817
SUMMARY:Projektmenedzsment tanfolyam - MODUL - Munkatársak motiválása tréning
DTSTART;VALUE=DATE:20260326
DTEND;VALUE=DATE:20260328
DTSTAMP:20251111T095636
LAST-MODIFIED:20251111T095636
CREATED:20260419T215831
LOCATION:MSPR Üzleti Iskola - MSPR Üzleti Iskola - 1021 Budapest\, Tárogató út 19.
DESCRIPTION:Képzési idő: délelőtt 9.30-tól délután 16.00-ig\, Tréner: Szaskov Miroszlav MBA
URL;VALUE=URI:https://mspr.hu/treningek/munkatarsak-motivalasa-trening
ORGANIZER:mailto:info@mspr.hu
CATEGORIES:EDUCATION,COURSE
STATUS:CONFIRMED
TRANSP:TRANSPARENT
CLASS:PUBLIC
SEQUENCE:0
END:VEVENT
BEGIN:VEVENT
TZID:Europe/Budapest
UID:9de6d14fff9806d4bcd1ef555be766cd
SUMMARY:Projektmenedzsment tanfolyam - MODUL - Csoportvezetői technikák tréning
DTSTART;VALUE=DATE:20260423
DTEND;VALUE=DATE:20260425
DTSTAMP:20251111T095853
LAST-MODIFIED:20251111T095853
CREATED:20260419T215831
LOCATION:MSPR Üzleti Iskola - MSPR Üzleti Iskola - 1021 Budapest\, Tárogató út 19.
DESCRIPTION:Képzési idő: délelőtt 9.30-tól délután 16.00-ig\, Tréner: Szaskov Miroszlav MBA
URL;VALUE=URI:https://mspr.hu/treningek/csoportvezetoi-technikak-trening
ORGANIZER:mailto:info@mspr.hu
CATEGORIES:EDUCATION,COURSE
STATUS:CONFIRMED
TRANSP:TRANSPARENT
CLASS:PUBLIC
SEQUENCE:0
END:VEVENT
END:VCALENDAR
